BEGIN:VCALENDAR
VERSION:2.0
CALSCALE:GREGORIAN
PRODID:-//Diputació de Barcelona//DibaCMS//EN
BEGIN:VEVENT
UID:3221
DTSTAMP:20260423T090905
DTSTART:20220414T150000
DTEND:20480424T000000
SUMMARY:Afectacions en el trànsit per obres al sistema d’evacuació d’aigües pluvials dels carrers Pau Casals i Sant Llop
LOCATION:
METHOD:PUBLISH
X-WR-CALNAME:dosrius@dosrius.cat
X-WR-TIMEZONE:Europe/Madrid
DESCRIPTION:L’Ajuntament agraeix la col·laboració i comprensió dels veïns i veïnes i demana disculpes per les molèsties que pugui generar aquesta mesura. 

URI:https://www.dosrius.cat/actualitat/noticies/afectacions-en-el-transit-per-obres-al-sistema-devacuacio-daigues-pluvials-dels-carrers-pau-casals-i-sant-llop.html
CLASS:PUBLIC
END:VEVENT
END:VCALENDAR
