BEGIN:VCALENDAR
VERSION:2.0
CALSCALE:GREGORIAN
PRODID:-//Diputació de Barcelona//DibaCMS//EN
BEGIN:VEVENT
UID:3219
DTSTAMP:20260423T060427
DTSTART:20220418T070000
DTEND:20480424T000000
SUMMARY:La cultura i la tradició, grans protagonistes de la diada de Sant Jordi
LOCATION:
METHOD:PUBLISH
X-WR-CALNAME:dosrius@dosrius.cat
X-WR-TIMEZONE:Europe/Madrid
DESCRIPTION:Dissabte 23 d’abril la plaça de Can Torres acollirà de 09 a 13.30 h diferents activitats festives per a celebrar la diada. 

URI:https://www.dosrius.cat/actualitat/noticies/la-cultura-i-la-tradicio-grans-protagonistes-de-la-diada-de-sant-jordi.html
CLASS:PUBLIC
END:VEVENT
END:VCALENDAR
