BEGIN:VCALENDAR
VERSION:2.0
CALSCALE:GREGORIAN
PRODID:-//Diputació de Barcelona//DibaCMS//EN
BEGIN:VEVENT
UID:3215
DTSTAMP:20260423T091128
DTSTART:20220413T110000
DTEND:20480327T000000
SUMMARY:Divendres 15 d'abril es duran a terme talls en el subministrament elèctric
LOCATION:
METHOD:PUBLISH
X-WR-CALNAME:dosrius@dosrius.cat
X-WR-TIMEZONE:Europe/Madrid
DESCRIPTION:L’empresa Edistribución efectuarà treballs de manteniment de la xarxa elèctrica que provocaran un tall en el servei.

URI:https://www.dosrius.cat/actualitat/noticies/divendres-15-dabril-es-duran-a-terme-talls-en-el-subministrament-electric.html
CLASS:PUBLIC
END:VEVENT
END:VCALENDAR
