BEGIN:VCALENDAR
VERSION:2.0
CALSCALE:GREGORIAN
PRODID:-//Diputació de Barcelona//DibaCMS//EN
BEGIN:VEVENT
UID:3202
DTSTAMP:20260423T090422
DTSTART:20220408T140000
DTEND:20480522T000000
SUMMARY:Dosrius participa en la celebració del Dia de Les Esquadres de l'ABP Mataró
LOCATION:
METHOD:PUBLISH
X-WR-CALNAME:dosrius@dosrius.cat
X-WR-TIMEZONE:Europe/Madrid
DESCRIPTION:L’alcaldessa Sílvia Garrido; el sergent de la Policia Local, Andreu da Silva Marquez; i la caporal de la policia dosriuenca, Maribel López, van estar presents en l’acte de reconeixement.

URI:https://www.dosrius.cat/actualitat/noticies/dosrius-participa-en-la-celebracio-del-dia-de-les-esquadres-de-labp-mataro.html
CLASS:PUBLIC
END:VEVENT
END:VCALENDAR
