BEGIN:VCALENDAR
VERSION:2.0
CALSCALE:GREGORIAN
PRODID:-//Diputació de Barcelona//DibaCMS//EN
BEGIN:VEVENT
UID:3197
DTSTAMP:20260423T085745
DTSTART:20220406T070000
DTEND:20480430T000000
SUMMARY:El dipòsit d’aigua dels Gossos de Can Massuet del Far ja està plenament operatiu
LOCATION:
METHOD:PUBLISH
X-WR-CALNAME:dosrius@dosrius.cat
X-WR-TIMEZONE:Europe/Madrid
DESCRIPTION:A la instal·lació s’hi han dut a terme tasques de rehabilitació, reparació, neteja i anàlisi.

URI:https://www.dosrius.cat/actualitat/noticies/el-diposit-daigua-dels-gossos-de-can-massuet-del-far-ja-esta-plenament-operatiu.html
CLASS:PUBLIC
END:VEVENT
END:VCALENDAR
