BEGIN:VCALENDAR
VERSION:2.0
CALSCALE:GREGORIAN
PRODID:-//Diputació de Barcelona//DibaCMS//EN
BEGIN:VEVENT
UID:3194
DTSTAMP:20260423T060259
DTSTART:20220405T080000
DTEND:20480430T232000
SUMMARY:L’Ajuntament apel·la a la col·laboració i a la responsabilitat ciutadanes per a erradicar els actes vandàlics
LOCATION:
METHOD:PUBLISH
X-WR-CALNAME:dosrius@dosrius.cat
X-WR-TIMEZONE:Europe/Madrid
DESCRIPTION:Al llarg de les darreres setmanes s’han dut a terme destrosses en les obres per al condicionament dels tres espais joves del municipi. El consistori està destinant una partida de 145.325,09€ per a executar aquests treballs. 

URI:https://www.dosrius.cat/actualitat/noticies/lajuntament-apella-a-la-collaboracio-i-a-la-responsabilitat-ciutadanes-per-a-erradicar-els-actes-vandalics.html
CLASS:PUBLIC
END:VEVENT
END:VCALENDAR
