BEGIN:VCALENDAR
VERSION:2.0
CALSCALE:GREGORIAN
PRODID:-//Diputació de Barcelona//DibaCMS//EN
BEGIN:VEVENT
UID:3165
DTSTAMP:20260423T152454
DTSTART:20211029T080000
DTEND:20230325T000000
SUMMARY:Resum del Ple municipal ordinari del 28 d’octubre 
LOCATION:
METHOD:PUBLISH
X-WR-CALNAME:dosrius@dosrius.cat
X-WR-TIMEZONE:Europe/Madrid
DESCRIPTION:La sessió la podeu recuperar de forma íntegra en aquest enllaç.  

URI:https://www.dosrius.cat/actualitat/noticies/resum-del-ple-municipal-ordinari-del-28-doctubre-.html
CLASS:PUBLIC
END:VEVENT
END:VCALENDAR
