BEGIN:VCALENDAR
VERSION:2.0
CALSCALE:GREGORIAN
PRODID:-//Diputació de Barcelona//DibaCMS//EN
BEGIN:VEVENT
UID:3161
DTSTAMP:20260423T110357
DTSTART:20220325T080000
DTEND:20480206T000000
SUMMARY:Nova sortida al teatre: “Forever young"
LOCATION:
METHOD:PUBLISH
X-WR-CALNAME:dosrius@dosrius.cat
X-WR-TIMEZONE:Europe/Madrid
DESCRIPTION:La sortida tindrà lloc el divendres 27 de maig i les inscripcions es poden formalitzar a l’Ajuntament de Dosrius o al telèfon 93 791 80 14.

URI:https://www.dosrius.cat/actualitat/noticies/nova-sortida-al-teatre-forever-young.html
CLASS:PUBLIC
END:VEVENT
END:VCALENDAR
