BEGIN:VCALENDAR
VERSION:2.0
CALSCALE:GREGORIAN
PRODID:-//Diputació de Barcelona//DibaCMS//EN
BEGIN:VEVENT
UID:3159
DTSTAMP:20260423T110414
DTSTART:20220324T080000
DTEND:20480311T000000
SUMMARY:Entra en vigor el nou complement d'ajuda per la infància: qui ho pot demanar i com sol·licitar-ho
LOCATION:
METHOD:PUBLISH
X-WR-CALNAME:dosrius@dosrius.cat
X-WR-TIMEZONE:Europe/Madrid
DESCRIPTION:Es tracta d’un complement d’ajuda per a la infància lligada a l’Ingrés Mínim Vital i que també podran rebre famílies que no superin un determinat nivell d’ingressos. 

URI:https://www.dosrius.cat/actualitat/noticies/entra-en-vigor-el-nou-complement-dajuda-per-la-infancia-qui-ho-pot-demanar-i-com-sollicitar-ho.html
CLASS:PUBLIC
END:VEVENT
END:VCALENDAR
