BEGIN:VCALENDAR
VERSION:2.0
CALSCALE:GREGORIAN
PRODID:-//Diputació de Barcelona//DibaCMS//EN
BEGIN:VEVENT
UID:3157
DTSTAMP:20260423T110148
DTSTART:20220323T080000
DTEND:20480327T000000
SUMMARY:Preinscripcions i matrícula a l’EBM La Caseta del Bosc de Can Martorell
LOCATION:
METHOD:PUBLISH
X-WR-CALNAME:dosrius@dosrius.cat
X-WR-TIMEZONE:Europe/Madrid
DESCRIPTION:Les preinscripcions es podran presentar del 9 al 20 de maig, i la matrícula s'haurà de formalitzar del 16 al 22 de juny.

URI:https://www.dosrius.cat/actualitat/noticies/preinscripcions-i-matricula-a-lebm-la-caseta-del-bosc-de-can-martorell.html
CLASS:PUBLIC
END:VEVENT
END:VCALENDAR
