BEGIN:VCALENDAR
VERSION:2.0
CALSCALE:GREGORIAN
PRODID:-//Diputació de Barcelona//DibaCMS//EN
BEGIN:VEVENT
UID:3154
DTSTAMP:20260423T110230
DTSTART:20220318T000000
DTEND:20480312T000000
SUMMARY:Informació d'interès sobre possible estafa a persones grans en relació al servei de televida
LOCATION:
METHOD:PUBLISH
X-WR-CALNAME:dosrius@dosrius.cat
X-WR-TIMEZONE:Europe/Madrid
DESCRIPTION:Els Mossos d'Esquadra informen que s'ha detectat una modalitat d’estafa que pot afectar al col·lectiu de gent gran.

URI:https://www.dosrius.cat/actualitat/noticies/informacio-dinteres-sobre-possible-estafa-a-persones-grans-en-relacio-al-servei-de-televida.html
CLASS:PUBLIC
END:VEVENT
END:VCALENDAR
