BEGIN:VCALENDAR
VERSION:2.0
CALSCALE:GREGORIAN
PRODID:-//Diputació de Barcelona//DibaCMS//EN
BEGIN:VEVENT
UID:3153
DTSTAMP:20260423T093415
DTSTART:20220317T080000
DTEND:20480320T000000
SUMMARY:Convocatòria de subvencions per a entitats per a l’any 2022
LOCATION:
METHOD:PUBLISH
X-WR-CALNAME:dosrius@dosrius.cat
X-WR-TIMEZONE:Europe/Madrid
DESCRIPTION:Les entitats municipals poden presentar les seves sol·licituds al Registre General de l’Ajuntament fins al 31 de maig.

URI:https://www.dosrius.cat/actualitat/noticies/convocatoria-de-subvencions-per-a-entitats-per-a-lany-2022.html
CLASS:PUBLIC
END:VEVENT
END:VCALENDAR
