BEGIN:VCALENDAR
VERSION:2.0
CALSCALE:GREGORIAN
PRODID:-//Diputació de Barcelona//DibaCMS//EN
BEGIN:VEVENT
UID:3151
DTSTAMP:20260425T132438
DTSTART:20220314T000000
DTEND:20480320T000000
SUMMARY:L’EBM La Caseta del Bosc de Can Martorell incorpora una aula multisensorial
LOCATION:
METHOD:PUBLISH
X-WR-CALNAME:dosrius@dosrius.cat
X-WR-TIMEZONE:Europe/Madrid
DESCRIPTION:Aquest espai permet als infants potenciar les seves ganes de descobrir i explorar a través dels sentits.

URI:https://www.dosrius.cat/actualitat/noticies/lebm-la-caseta-del-bosc-de-can-martorell-incorpora-una-aula-multisensorial.html
CLASS:PUBLIC
END:VEVENT
END:VCALENDAR
