BEGIN:VCALENDAR
VERSION:2.0
CALSCALE:GREGORIAN
PRODID:-//Diputació de Barcelona//DibaCMS//EN
BEGIN:VEVENT
UID:3149
DTSTAMP:20260423T093337
DTSTART:20220309T080000
DTEND:20480320T234500
SUMMARY:Vols formar-te com a monitor/a d’activitats de lleure infantil i juvenil?
LOCATION:
METHOD:PUBLISH
X-WR-CALNAME:dosrius@dosrius.cat
X-WR-TIMEZONE:Europe/Madrid
DESCRIPTION:Totes aquelles persones interessades en participar-hi poden fer la inscripció accedint al següent enllaç.

URI:https://www.dosrius.cat/actualitat/noticies/vols-formar-te-com-a-monitora-dactivitats-de-lleure-infantil-i-juvenil.html
CLASS:PUBLIC
END:VEVENT
END:VCALENDAR
