BEGIN:VCALENDAR
VERSION:2.0
CALSCALE:GREGORIAN
PRODID:-//Diputació de Barcelona//DibaCMS//EN
BEGIN:VEVENT
UID:3148
DTSTAMP:20260423T110524
DTSTART:20220307T000000
DTEND:20480320T000000
SUMMARY:Bonificació del cànon de l’aigua per a col·lectius vulnerables
LOCATION:
METHOD:PUBLISH
X-WR-CALNAME:dosrius@dosrius.cat
X-WR-TIMEZONE:Europe/Madrid
DESCRIPTION:Les sol·licituds es poden fer trucant al 012, presencialment a la seu central de l’Agència Catalana de l'Aigua o en aquest enllaç.

URI:https://www.dosrius.cat/actualitat/noticies/bonificacio-del-canon-de-laigua-per-a-collectius-vulnerables.html
CLASS:PUBLIC
END:VEVENT
END:VCALENDAR
