BEGIN:VCALENDAR
VERSION:2.0
CALSCALE:GREGORIAN
PRODID:-//Diputació de Barcelona//DibaCMS//EN
BEGIN:VEVENT
UID:3146
DTSTAMP:20260423T074009
DTSTART:20220304T130000
DTEND:20480320T000000
SUMMARY:Com funciona el meu telèfon intel·ligent? Apunta’t al curs de formació sobre l’ús dels smartphones 
LOCATION:
METHOD:PUBLISH
X-WR-CALNAME:dosrius@dosrius.cat
X-WR-TIMEZONE:Europe/Madrid
DESCRIPTION:El taller es farà en quatre sessions a partir del mes d’abril i les places son limitades a 10 persones. Les inscripcions es poden formalitzar a l’Ajuntament. 

URI:https://www.dosrius.cat/actualitat/noticies/com-funciona-el-meu-telefon-intelligent-apuntat-al-curs-de-formacio-sobre-lus-dels-smartphones-.html
CLASS:PUBLIC
END:VEVENT
END:VCALENDAR
