BEGIN:VCALENDAR
VERSION:2.0
CALSCALE:GREGORIAN
PRODID:-//Diputació de Barcelona//DibaCMS//EN
BEGIN:VEVENT
UID:3144
DTSTAMP:20260423T062545
DTSTART:20220303T110000
DTEND:20480313T230000
SUMMARY:Ajuts al pagament al lloguer per a persones més grans de 65 anys
LOCATION:
METHOD:PUBLISH
X-WR-CALNAME:dosrius@dosrius.cat
X-WR-TIMEZONE:Europe/Madrid
DESCRIPTION:Totes aquelles persones que necessitin suport  a l’hora de fer el tràmit poden adreçar-se a la Regidoria de Serveis Socials de l’Ajuntament, demanant cita al telèfon 93 791 80 14  o enviant un correu electrònic a l’adreça serveissocials@dosrius.cat.

URI:https://www.dosrius.cat/actualitat/noticies/ajuts-al-pagament-al-lloguer-per-a-persones-mes-grans-de-65-anys.html
CLASS:PUBLIC
END:VEVENT
END:VCALENDAR
