BEGIN:VCALENDAR
VERSION:2.0
CALSCALE:GREGORIAN
PRODID:-//Diputació de Barcelona//DibaCMS//EN
BEGIN:VEVENT
UID:3143
DTSTAMP:20260423T105216
DTSTART:20220302T170000
DTEND:20480306T000000
SUMMARY:L'Ajuntament de Dosrius obre un punt de recollida de material de primera necessitat per a Ucraïna
LOCATION:
METHOD:PUBLISH
X-WR-CALNAME:dosrius@dosrius.cat
X-WR-TIMEZONE:Europe/Madrid
DESCRIPTION:Tot el material sanitari i els productes bàsics que es recullin s’enviaran al Consolat d'Ucraïna a Barcelona per tal d’ajudar a la població del país afectada per la guerra. 

URI:https://www.dosrius.cat/actualitat/noticies/lajuntament-de-dosrius-obre-un-punt-de-recollida-de-material-de-primera-necessitat-per-a-ucraina.html
CLASS:PUBLIC
END:VEVENT
END:VCALENDAR
