BEGIN:VCALENDAR
VERSION:2.0
CALSCALE:GREGORIAN
PRODID:-//Diputació de Barcelona//DibaCMS//EN
BEGIN:VEVENT
UID:3142
DTSTAMP:20260423T080137
DTSTART:20220301T120000
DTEND:20480319T000000
SUMMARY:Dimarts 1 de març, concentració davant de l’Ajuntament per a condemnar l’atac a Ucraïna
LOCATION:
METHOD:PUBLISH
X-WR-CALNAME:dosrius@dosrius.cat
X-WR-TIMEZONE:Europe/Madrid
DESCRIPTION:La convocatòria es farà a les 19 h i és oberta a tota la població.

URI:https://www.dosrius.cat/actualitat/noticies/dimarts-1-de-marc-concentracio-davant-de-lajuntament-per-a-condemnar-latac-a-ucraina.html
CLASS:PUBLIC
END:VEVENT
END:VCALENDAR
