BEGIN:VCALENDAR
VERSION:2.0
CALSCALE:GREGORIAN
PRODID:-//Diputació de Barcelona//DibaCMS//EN
BEGIN:VEVENT
UID:3135
DTSTAMP:20260423T075427
DTSTART:20220228T120000
DTEND:20480221T000000
SUMMARY:Afectacions en el trànsit per les obres als carrers Esteve Albert i Pau Picasso
LOCATION:
METHOD:PUBLISH
X-WR-CALNAME:dosrius@dosrius.cat
X-WR-TIMEZONE:Europe/Madrid
DESCRIPTION:L’Ajuntament demana disculpes per les molèsties que puguin generar aquests treballs i agraeix la comprensió i col·laboració de tots els veïns i veïnes.

URI:https://www.dosrius.cat/actualitat/noticies/afectacions-en-el-transit-per-les-obres-als-carrers-esteve-albert-i-pau-picasso.html
CLASS:PUBLIC
END:VEVENT
END:VCALENDAR
