BEGIN:VCALENDAR
VERSION:2.0
CALSCALE:GREGORIAN
PRODID:-//Diputació de Barcelona//DibaCMS//EN
BEGIN:VEVENT
UID:3133
DTSTAMP:20260423T123932
DTSTART:20220228T000000
DTEND:20230228T000000
SUMMARY:Els joves del municipi compten amb una nova sala d’estudi
LOCATION:
METHOD:PUBLISH
X-WR-CALNAME:dosrius@dosrius.cat
X-WR-TIMEZONE:Europe/Madrid
DESCRIPTION:Des del passat 22 de febrer l’aula obre els dimarts i dijous de 17 a 20 h.

URI:https://www.dosrius.cat/actualitat/noticies/els-joves-del-municipi-compten-amb-una-nova-sala-destudi.html
CLASS:PUBLIC
END:VEVENT
END:VCALENDAR
