BEGIN:VCALENDAR
VERSION:2.0
CALSCALE:GREGORIAN
PRODID:-//Diputació de Barcelona//DibaCMS//EN
BEGIN:VEVENT
UID:3131
DTSTAMP:20260423T102525
DTSTART:20220225T080000
DTEND:20480214T000000
SUMMARY:Consulta les afectacions per la celebració de la Rua de Carnaval
LOCATION:
METHOD:PUBLISH
X-WR-CALNAME:dosrius@dosrius.cat
X-WR-TIMEZONE:Europe/Madrid
DESCRIPTION:L’Ajuntament agraeix la comprensió i la col·laboració ciutadanes i desitja a tots els veïns i veïnes una bona festa de Carnaval.

URI:https://www.dosrius.cat/actualitat/noticies/consulta-les-afectacions-per-la-celebracio-de-la-rua-de-carnaval.html
CLASS:PUBLIC
END:VEVENT
END:VCALENDAR
