BEGIN:VCALENDAR
VERSION:2.0
CALSCALE:GREGORIAN
PRODID:-//Diputació de Barcelona//DibaCMS//EN
BEGIN:VEVENT
UID:3118
DTSTAMP:20260423T122226
DTSTART:20211224T080000
DTEND:20480214T000000
SUMMARY:Llum verda al pressupost municipal de l’Ajuntament pel 2022
LOCATION:
METHOD:PUBLISH
X-WR-CALNAME:dosrius@dosrius.cat
X-WR-TIMEZONE:Europe/Madrid
DESCRIPTION:Els comptes inclouen com a principals inversions actuacions en favor de la transició i la sostenibilitat energètica i de mitigació del canvi climàtic i el desplegament de la fase 3 del projecte d’urbanització de Can Canyamars. 

URI:https://www.dosrius.cat/actualitat/noticies/llum-verda-al-pressupost-municipal-de-lajuntament-pel-2022.html
CLASS:PUBLIC
END:VEVENT
END:VCALENDAR
