BEGIN:VCALENDAR
VERSION:2.0
CALSCALE:GREGORIAN
PRODID:-//Diputació de Barcelona//DibaCMS//EN
BEGIN:VEVENT
UID:3117
DTSTAMP:20260423T091027
DTSTART:20220221T000000
DTEND:20480221T000000
SUMMARY:La Diputació de Barcelona invertirà en la millora i arranjament dels camins municipals
LOCATION:
METHOD:PUBLISH
X-WR-CALNAME:dosrius@dosrius.cat
X-WR-TIMEZONE:Europe/Madrid
DESCRIPTION:L’actuació s’emmarca en el Pla de prevenció municipal d’incendis forestals.

URI:https://www.dosrius.cat/actualitat/noticies/la-diputacio-de-barcelona-invertira-en-la-millora-i-arranjament-dels-camins-municipals.html
CLASS:PUBLIC
END:VEVENT
END:VCALENDAR
