BEGIN:VCALENDAR
VERSION:2.0
CALSCALE:GREGORIAN
PRODID:-//Diputació de Barcelona//DibaCMS//EN
BEGIN:VEVENT
UID:3116
DTSTAMP:20260423T062332
DTSTART:20220218T130000
DTEND:20480221T000000
SUMMARY:Afectacions en la circulació els dies 21 i 22 de febrer als carrers Salvador Dalí i Lluís Moret
LOCATION:
METHOD:PUBLISH
X-WR-CALNAME:dosrius@dosrius.cat
X-WR-TIMEZONE:Europe/Madrid
DESCRIPTION:El pas alternatiu per als vehicles es farà pels carrers de Can Batlle i Torrent d’en Vergés.

URI:https://www.dosrius.cat/actualitat/noticies/afectacions-en-la-circulacio-els-dies-21-i-22-de-febrer-als-carrers-salvador-dali-i-lluis-moret.html
CLASS:PUBLIC
END:VEVENT
END:VCALENDAR
