BEGIN:VCALENDAR
VERSION:2.0
CALSCALE:GREGORIAN
PRODID:-//Diputació de Barcelona//DibaCMS//EN
BEGIN:VEVENT
UID:3114
DTSTAMP:20260423T074141
DTSTART:20220222T110000
DTEND:20480221T000000
SUMMARY:Calçotada: nova sortida dels Localets el 7 de març! 
LOCATION:
METHOD:PUBLISH
X-WR-CALNAME:dosrius@dosrius.cat
X-WR-TIMEZONE:Europe/Madrid
DESCRIPTION:L’activitat consistirà en un esmorzar, una calçotada i una visita a la fàbrica de carquinyolis de l’Espluga del Francolí i al Santuari de la Serra de Montblanc.

URI:https://www.dosrius.cat/actualitat/noticies/calcotada-nova-sortida-dels-localets-el-7-de-marc-.html
CLASS:PUBLIC
END:VEVENT
END:VCALENDAR
