BEGIN:VCALENDAR
VERSION:2.0
CALSCALE:GREGORIAN
PRODID:-//Diputació de Barcelona//DibaCMS//EN
BEGIN:VEVENT
UID:3104
DTSTAMP:20260423T121801
DTSTART:20220210T150000
DTEND:20480214T000000
SUMMARY:L'Institut Els Roures celebra una jornada de portes obertes
LOCATION:
METHOD:PUBLISH
X-WR-CALNAME:dosrius@dosrius.cat
X-WR-TIMEZONE:Europe/Madrid
DESCRIPTION:Les famílies que hi vulguin participar han d’inscriure’s prèviament enviant un correu a a8062730@inselsroures.cat o trucant al telèfon 93 791 95 64.

URI:https://www.dosrius.cat/actualitat/noticies/linstitut-els-roures-celebra-una-jornada-de-portes-obertes.html
CLASS:PUBLIC
END:VEVENT
END:VCALENDAR
