BEGIN:VCALENDAR
VERSION:2.0
CALSCALE:GREGORIAN
PRODID:-//Diputació de Barcelona//DibaCMS//EN
BEGIN:VEVENT
UID:3103
DTSTAMP:20260423T062413
DTSTART:20220301T080000
DTEND:20480214T000000
SUMMARY:L’EBM La Caseta del Bosc de Can Martorell ofereix visites guiades durant tot el curs
LOCATION:
METHOD:PUBLISH
X-WR-CALNAME:dosrius@dosrius.cat
X-WR-TIMEZONE:Europe/Madrid
DESCRIPTION:Per a participar-hi cal enviar un correu electrònic a ebm.casetadelbosc@peretarres.org o trucar al telèfon 93 791 93 64.

URI:https://www.dosrius.cat/actualitat/noticies/lebm-la-caseta-del-bosc-de-can-martorell-ofereix-visites-guiades-durant-tot-el-curs.html
CLASS:PUBLIC
END:VEVENT
END:VCALENDAR
