BEGIN:VCALENDAR
VERSION:2.0
CALSCALE:GREGORIAN
PRODID:-//Diputació de Barcelona//DibaCMS//EN
BEGIN:VEVENT
UID:3101
DTSTAMP:20260425T131010
DTSTART:20220208T110000
DTEND:20480213T000000
SUMMARY:L’Ajuntament potencia la qualitat i la quantitat dels actes de les festes majors gràcies al projecte “Programa.cat”
LOCATION:
METHOD:PUBLISH
X-WR-CALNAME:dosrius@dosrius.cat
X-WR-TIMEZONE:Europe/Madrid
DESCRIPTION:Es tracta d’una línia de subvencions impulsada pel Departament de Cultura de la Generalitat.

URI:https://www.dosrius.cat/actualitat/noticies/lajuntament-potencia-la-qualitat-i-la-quantitat-dels-actes-de-les-festes-majors-gracies-al-projecte-programacat.html
CLASS:PUBLIC
END:VEVENT
END:VCALENDAR
