BEGIN:VCALENDAR
VERSION:2.0
CALSCALE:GREGORIAN
PRODID:-//Diputació de Barcelona//DibaCMS//EN
BEGIN:VEVENT
UID:3098
DTSTAMP:20260423T091837
DTSTART:20220211T080000
DTEND:20480214T000000
SUMMARY:Jornada de portes obertes a l’Escola Castell de Dosrius
LOCATION:
METHOD:PUBLISH
X-WR-CALNAME:dosrius@dosrius.cat
X-WR-TIMEZONE:Europe/Madrid
DESCRIPTION:Les famílies que hi vulguin participar han d’inscriure’s prèviament abans del 3 de març enviant un correu a administracio@escoladedosrius.cat o trucant al 93 791 93 48.

URI:https://www.dosrius.cat/actualitat/noticies/3098-jornada-de-portes-obertes-a-lescola-castell-de-dosrius.html
CLASS:PUBLIC
END:VEVENT
END:VCALENDAR
