BEGIN:VCALENDAR
VERSION:2.0
CALSCALE:GREGORIAN
PRODID:-//Diputació de Barcelona//DibaCMS//EN
BEGIN:VEVENT
UID:3096
DTSTAMP:20260423T105255
DTSTART:20220204T080000
DTEND:20480215T000000
SUMMARY:Aprèn noves receptes als tallers de cuina dels Localets
LOCATION:
METHOD:PUBLISH
X-WR-CALNAME:dosrius@dosrius.cat
X-WR-TIMEZONE:Europe/Madrid
DESCRIPTION:Per a participar en les sessions cal inscriure’s al 673 002 613. 

URI:https://www.dosrius.cat/actualitat/noticies/apren-noves-receptes-als-tallers-de-cuina-dels-localets.html
CLASS:PUBLIC
END:VEVENT
END:VCALENDAR
