BEGIN:VCALENDAR
VERSION:2.0
CALSCALE:GREGORIAN
PRODID:-//Diputació de Barcelona//DibaCMS//EN
BEGIN:VEVENT
UID:3084
DTSTAMP:20260423T091935
DTSTART:20220203T110000
DTEND:20480220T000000
SUMMARY:Gaudeix amb els Localets del Dijous Gras al Pou de Glaç!
LOCATION:
METHOD:PUBLISH
X-WR-CALNAME:dosrius@dosrius.cat
X-WR-TIMEZONE:Europe/Madrid
DESCRIPTION:Dijous 24 de febrer s’organitzarà un esmorzar i un taller de risoteràpia per a commemorar el Dijous Gras. 

URI:https://www.dosrius.cat/actualitat/noticies/gaudeix-amb-els-localets-del-dijous-gras-al-pou-de-glac.html
CLASS:PUBLIC
END:VEVENT
END:VCALENDAR
