BEGIN:VCALENDAR
VERSION:2.0
CALSCALE:GREGORIAN
PRODID:-//Diputació de Barcelona//DibaCMS//EN
BEGIN:VEVENT
UID:3083
DTSTAMP:20260423T092131
DTSTART:20220202T130000
DTEND:20480214T000000
SUMMARY:3 de febrer: interrupció temporal en el subministrament d'aigua potable 
LOCATION:
METHOD:PUBLISH
X-WR-CALNAME:dosrius@dosrius.cat
X-WR-TIMEZONE:Europe/Madrid
DESCRIPTION:Agbar durà a terme la neteja anual de l'arqueta de trencament de càrrega.

Dijous 3 de febrer, de 08 a 11 h, es durà a terme una interrupció temporal en el subministrament d’aigua potable en diferents punts del municipi a causa de la neteja anual que l'empresa Agbar realitzarà a l'arqueta de trencament de càrrega.

Les zones afectades són: carrer Lleida (del número 31 fins al 39, i del número 32 fins al 42) i carrer Arenys (del número 33 fins al 79, i del número 32 fins al 66).

URI:https://www.dosrius.cat/actualitat/noticies/3-de-febrer-interrupcio-temporal-en-el-subministrament-daigua-potable-.html
CLASS:PUBLIC
END:VEVENT
END:VCALENDAR
