BEGIN:VCALENDAR
VERSION:2.0
CALSCALE:GREGORIAN
PRODID:-//Diputació de Barcelona//DibaCMS//EN
BEGIN:VEVENT
UID:3067
DTSTAMP:20260423T140442
DTSTART:20220201T080000
DTEND:20480117T000000
SUMMARY:Obre el període d’inscripció al programa “Fomentem l’ocupació, facilitem el talent”
LOCATION:
METHOD:PUBLISH
X-WR-CALNAME:dosrius@dosrius.cat
X-WR-TIMEZONE:Europe/Madrid
DESCRIPTION:Si tens entre 18 i 30 anys, o més de 50 anys i vols trobar feina, aquest programa t'interessa. 

URI:https://www.dosrius.cat/actualitat/noticies/obre-el-periode-dinscripcio-al-programa-fomentem-locupacio-facilitem-el-talent.html
CLASS:PUBLIC
END:VEVENT
END:VCALENDAR
