BEGIN:VCALENDAR
VERSION:2.0
CALSCALE:GREGORIAN
PRODID:-//Diputació de Barcelona//DibaCMS//EN
BEGIN:VEVENT
UID:3058
DTSTAMP:20260423T091759
DTSTART:20220119T000000
DTEND:20480124T000000
SUMMARY:Participa en la primera jornada de donació de sang de l’any. Comptem amb tu!
LOCATION:
METHOD:PUBLISH
X-WR-CALNAME:dosrius@dosrius.cat
X-WR-TIMEZONE:Europe/Madrid
DESCRIPTION:Dijous 27 de gener es podrà donar sang a la Sala de Plens de l’Ajuntament de 10 a 14 h i de 17 a 21 h.

URI:https://www.dosrius.cat/actualitat/noticies/3058-participa-en-la-primera-jornada-de-donacio-de-sang-de-lany-comptem-amb-tu.html
CLASS:PUBLIC
END:VEVENT
END:VCALENDAR
