BEGIN:VCALENDAR
VERSION:2.0
CALSCALE:GREGORIAN
PRODID:-//Diputació de Barcelona//DibaCMS//EN
BEGIN:VEVENT
UID:3056
DTSTAMP:20260423T122026
DTSTART:20220115T000000
DTEND:20480117T000000
SUMMARY:El canyamarenc Oriol Mena puja al podi al Dakar 2022
LOCATION:
METHOD:PUBLISH
X-WR-CALNAME:dosrius@dosrius.cat
X-WR-TIMEZONE:Europe/Madrid
DESCRIPTION:L’Ajuntament felicita i anima al pilot local a seguir sumant nous èxits i a lluir amb orgull el nom del poble arreu del món.

URI:https://www.dosrius.cat/actualitat/noticies/el-canyamarenc-oriol-mena-puja-al-podi-al-dakar-2022.html
CLASS:PUBLIC
END:VEVENT
END:VCALENDAR
