BEGIN:VCALENDAR
VERSION:2.0
CALSCALE:GREGORIAN
PRODID:-//Diputació de Barcelona//DibaCMS//EN
BEGIN:VEVENT
UID:3055
DTSTAMP:20260423T110341
DTSTART:20220114T000000
DTEND:20480117T000000
SUMMARY:La Brigada Municipal d’Obres i Serveis endega diversos treballs de millora a la via pública
LOCATION:
METHOD:PUBLISH
X-WR-CALNAME:dosrius@dosrius.cat
X-WR-TIMEZONE:Europe/Madrid
DESCRIPTION:Al llarg dels darrers dies l’Ajuntament ha actuat en diferents punts del municipi per arranjar desperfectes i dur a terme noves obres.

URI:https://www.dosrius.cat/actualitat/noticies/la-brigada-municipal-dobres-i-serveis-endega-diversos-treballs-de-millora-a-la-via-publica.html
CLASS:PUBLIC
END:VEVENT
END:VCALENDAR
