BEGIN:VCALENDAR
VERSION:2.0
CALSCALE:GREGORIAN
PRODID:-//Diputació de Barcelona//DibaCMS//EN
BEGIN:VEVENT
UID:3050
DTSTAMP:20260423T092016
DTSTART:20220104T080000
DTEND:20480124T000000
SUMMARY:Melcior, Gaspar i Baltasar arribaran el 5 de gener
LOCATION:
METHOD:PUBLISH
X-WR-CALNAME:dosrius@dosrius.cat
X-WR-TIMEZONE:Europe/Madrid
DESCRIPTION:Ses Majestats els Reis Mags d’Orient recorreran Dosrius, Canyamars i Can Massuet del Far.

URI:https://www.dosrius.cat/actualitat/noticies/melcior-gaspar-i-baltasar-arribaran-el-5-de-gener.html
CLASS:PUBLIC
END:VEVENT
END:VCALENDAR
