BEGIN:VCALENDAR
VERSION:2.0
CALSCALE:GREGORIAN
PRODID:-//Diputació de Barcelona//DibaCMS//EN
BEGIN:VEVENT
UID:3029
DTSTAMP:20260423T092031
DTSTART:20211228T150000
DTEND:20481219T235500
SUMMARY:El Cant de la Sibil·la torna a ressonar per Nadal a Canyamars 
LOCATION:
METHOD:PUBLISH
X-WR-CALNAME:dosrius@dosrius.cat
X-WR-TIMEZONE:Europe/Madrid
DESCRIPTION:L’esdeveniment, celebrat a l'església de Sant Esteve de Canyamars, va resultar tot un èxit organitzatiu i de convocatòria.

URI:https://www.dosrius.cat/actualitat/noticies/el-cant-de-la-sibilla-torna-a-ressonar-per-nadal-a-canyamars-.html
CLASS:PUBLIC
END:VEVENT
END:VCALENDAR
