BEGIN:VCALENDAR
VERSION:2.0
CALSCALE:GREGORIAN
PRODID:-//Diputació de Barcelona//DibaCMS//EN
BEGIN:VEVENT
UID:3028
DTSTAMP:20260423T091905
DTSTART:20211228T000000
DTEND:20481225T000000
SUMMARY:Dimecres 29 de desembre es duran a terme talls en el subministrament elèctric
LOCATION:
METHOD:PUBLISH
X-WR-CALNAME:dosrius@dosrius.cat
X-WR-TIMEZONE:Europe/Madrid
DESCRIPTION:L’empresa Edistribución efectuarà treballs de manteniment de la xarxa elèctrica que provocaran un tall en el servei.

URI:https://www.dosrius.cat/actualitat/noticies/dimecres-29-de-desembre-es-duran-a-terme-talls-en-el-subministrament-electric.html
CLASS:PUBLIC
END:VEVENT
END:VCALENDAR
