BEGIN:VCALENDAR
VERSION:2.0
CALSCALE:GREGORIAN
PRODID:-//Diputació de Barcelona//DibaCMS//EN
BEGIN:VEVENT
UID:3027
DTSTAMP:20260423T105206
DTSTART:20211229T080000
DTEND:20481225T000000
SUMMARY:L’Ajuntament adquireix material escolar a través d’una subvenció de la Diputació de Barcelona
LOCATION:
METHOD:PUBLISH
X-WR-CALNAME:dosrius@dosrius.cat
X-WR-TIMEZONE:Europe/Madrid
DESCRIPTION:El material s’ha entregat a l’Escola Castell de Dosrius i a l’EBM La Caseta del Bosc de Can Martorell.

URI:https://www.dosrius.cat/actualitat/noticies/lajuntament-adquireix-material-escolar-a-traves-duna-subvencio-de-la-diputacio-de-barcelona.html
CLASS:PUBLIC
END:VEVENT
END:VCALENDAR
