BEGIN:VCALENDAR
VERSION:2.0
CALSCALE:GREGORIAN
PRODID:-//Diputació de Barcelona//DibaCMS//EN
BEGIN:VEVENT
UID:3025
DTSTAMP:20260425T155449
DTSTART:20211221T000000
DTEND:20221221T000000
SUMMARY:23 de desembre: Ple municipal ordinari
LOCATION:
METHOD:PUBLISH
X-WR-CALNAME:dosrius@dosrius.cat
X-WR-TIMEZONE:Europe/Madrid
DESCRIPTION:La sessió tindrà lloc a les 18 h i es podrà seguir en directe a través del canal de YouTube de l'Ajuntament.

URI:https://www.dosrius.cat/actualitat/noticies/23-de-desembre-ple-municipal-ordinari.html
CLASS:PUBLIC
END:VEVENT
END:VCALENDAR
