BEGIN:VCALENDAR
VERSION:2.0
CALSCALE:GREGORIAN
PRODID:-//Diputació de Barcelona//DibaCMS//EN
BEGIN:VEVENT
UID:3024
DTSTAMP:20260425T155931
DTSTART:20211215T130000
DTEND:20221215T000000
SUMMARY:El sergent de la Policia Local de Dosrius rep un reconeixement per la seva tasca durant la pandèmia de Covid-19
LOCATION:
METHOD:PUBLISH
X-WR-CALNAME:dosrius@dosrius.cat
X-WR-TIMEZONE:Europe/Madrid
DESCRIPTION:L’Ajuntament felicita al sergent Andreu da Silva Marquez i a tots els agents del cos per la feina feta durant la pandèmia per a garantir la seguretat i el benestar dels veïns i veïnes.

URI:https://www.dosrius.cat/actualitat/noticies/el-sergent-de-la-policia-local-de-dosrius-rep-un-reconeixement-per-la-seva-tasca-durant-la-pandemia-de-covid-19.html
CLASS:PUBLIC
END:VEVENT
END:VCALENDAR
