BEGIN:VCALENDAR
VERSION:2.0
CALSCALE:GREGORIAN
PRODID:-//Diputació de Barcelona//DibaCMS//EN
BEGIN:VEVENT
UID:3022
DTSTAMP:20260423T121816
DTSTART:20211215T080000
DTEND:20481225T000000
SUMMARY:Actuacions de millora a la xarxa d’aigua potable a Dosrius
LOCATION:
METHOD:PUBLISH
X-WR-CALNAME:dosrius@dosrius.cat
X-WR-TIMEZONE:Europe/Madrid
DESCRIPTION:Sorea durà a terme dijous 16 de desembre operacions de manteniment i millora de la xarxa de subministrament d'aigua.

URI:https://www.dosrius.cat/actualitat/noticies/3022-actuacions-de-millora-a-la-xarxa-daigua-potable-a-dosrius.html
CLASS:PUBLIC
END:VEVENT
END:VCALENDAR
