BEGIN:VCALENDAR
VERSION:2.0
CALSCALE:GREGORIAN
PRODID:-//Diputació de Barcelona//DibaCMS//EN
BEGIN:VEVENT
UID:3006
DTSTAMP:20260423T135224
DTSTART:20211119T110000
DTEND:20481113T000000
SUMMARY:El 23 de desembre torna l’Esquiada Jove
LOCATION:
METHOD:PUBLISH
X-WR-CALNAME:dosrius@dosrius.cat
X-WR-TIMEZONE:Europe/Madrid
DESCRIPTION:Per a participar-hi cal inscriure’s abans del 14 de desembre al 663 32 31 64 o a joves@dosrius.cat.

URI:https://www.dosrius.cat/actualitat/noticies/el-23-de-desembre-torna-lesquiada-jove.html
CLASS:PUBLIC
END:VEVENT
END:VCALENDAR
