BEGIN:VCALENDAR
VERSION:2.0
CALSCALE:GREGORIAN
PRODID:-//Diputació de Barcelona//DibaCMS//EN
BEGIN:VEVENT
UID:3005
DTSTAMP:20260423T104951
DTSTART:20211118T110000
DTEND:20481120T000000
SUMMARY:Dosrius, amb l'esport!
LOCATION:
METHOD:PUBLISH
X-WR-CALNAME:dosrius@dosrius.cat
X-WR-TIMEZONE:Europe/Madrid
DESCRIPTION:Aquest cap de setmana el Poliesportiu de Canyamars acollirà els entrenaments de la selecció comarcal de futbol sala del Maresme.

URI:https://www.dosrius.cat/actualitat/noticies/dosrius-amb-lesport.html
CLASS:PUBLIC
END:VEVENT
END:VCALENDAR
