BEGIN:VCALENDAR
VERSION:2.0
CALSCALE:GREGORIAN
PRODID:-//Diputació de Barcelona//DibaCMS//EN
BEGIN:VEVENT
UID:3003
DTSTAMP:20260423T080046
DTSTART:20211124T000000
DTEND:20481113T000000
SUMMARY:Dosrius commemora el Dia internacional per a l’eliminació de la violència envers les dones 
LOCATION:
METHOD:PUBLISH
X-WR-CALNAME:dosrius@dosrius.cat
X-WR-TIMEZONE:Europe/Madrid
DESCRIPTION:Durant els mesos de novembre i desembre el municipi acollirà diferents propostes de sensibilització. Consulta el programa d’activitats. 

URI:https://www.dosrius.cat/actualitat/noticies/dosrius-commemora-el-dia-internacional-per-a-leliminacio-de-la-violencia-envers-les-dones-.html
CLASS:PUBLIC
END:VEVENT
END:VCALENDAR
