BEGIN:VCALENDAR
VERSION:2.0
CALSCALE:GREGORIAN
PRODID:-//Diputació de Barcelona//DibaCMS//EN
BEGIN:VEVENT
UID:3000
DTSTAMP:20260423T080116
DTSTART:20211112T160000
DTEND:20481120T000000
SUMMARY:Obre el període d’inscripció per a les activitats dels Localets per al primer semestre del 2022
LOCATION:
METHOD:PUBLISH
X-WR-CALNAME:dosrius@dosrius.cat
X-WR-TIMEZONE:Europe/Madrid
DESCRIPTION:Les inscripcions es poden formalitzar del 15 al 30 de novembre a l’OAC de l’Ajuntament.

URI:https://www.dosrius.cat/actualitat/noticies/obre-el-periode-dinscripcio-per-a-les-activitats-dels-localets-per-al-primer-semestre-del-2022.html
CLASS:PUBLIC
END:VEVENT
END:VCALENDAR
