BEGIN:VCALENDAR
VERSION:2.0
CALSCALE:GREGORIAN
PRODID:-//Diputació de Barcelona//DibaCMS//EN
BEGIN:VEVENT
UID:2992
DTSTAMP:20260423T114612
DTSTART:20211109T090000
DTEND:20481106T235500
SUMMARY:Gaudeix aquest mes de novembre d’una sortida al Tibidabo!
LOCATION:
METHOD:PUBLISH
X-WR-CALNAME:dosrius@dosrius.cat
X-WR-TIMEZONE:Europe/Madrid
DESCRIPTION:L’activitat tindrà lloc el 27 de novembre i per a participar-hi cal inscriure’s abans del 18 de novembre trucant al telèfon 663 32 31 64 o enviant un correu a joves@dosrius.cat.

URI:https://www.dosrius.cat/actualitat/noticies/gaudeix-aquest-mes-de-novembre-duna-sortida-al-tibidabo.html
CLASS:PUBLIC
END:VEVENT
END:VCALENDAR
