BEGIN:VCALENDAR
VERSION:2.0
CALSCALE:GREGORIAN
PRODID:-//Diputació de Barcelona//DibaCMS//EN
BEGIN:VEVENT
UID:2990
DTSTAMP:20260423T152117
DTSTART:20211108T000000
DTEND:20221107T000000
SUMMARY:El 13 i 14 de novembre Dosrius celebra la Festa Major d’Hivern
LOCATION:
METHOD:PUBLISH
X-WR-CALNAME:dosrius@dosrius.cat
X-WR-TIMEZONE:Europe/Madrid
DESCRIPTION:Durant el cap de setmana els veïns i veïnes podran gaudir de diferents propostes per a tots els públics en el marc de la Festa Major de Sant Iscle i Santa Victòria. 

URI:https://www.dosrius.cat/actualitat/noticies/el-13-i-14-de-novembre-dosrius-celebra-la-festa-major-dhivern.html
CLASS:PUBLIC
END:VEVENT
END:VCALENDAR
